View In:
ArcGIS JavaScript
ArcGIS Online Map Viewer
ArcGIS Earth
ArcMap
ArcGIS Pro
View Footprint In:
ArcGIS Online Map Viewer
Service Description: This basemap provides taxing jurisdiction information to the general public and other consumers within an organization. The content presented in this map emulates hardcopy map products used throughout local government.
Map Name: Layers
Legend
All Layers and Tables
Layers:
Description: This basemap provides taxin jurisdiction information to the general public and other consumers within an organization.
Copyright Text: DCAD, USGS, NCTCOG, Esri.,Inc.
Spatial Reference:
102100
(3857)
Single Fused Map Cache: true
Tile Info:
- Height: 256
- Width: 256
- DPI: 96
-
Levels of Detail: 24
-
Level ID: 0
[ Start Tile, End Tile ]
- Resolution: 156543.03392800014
- Scale: 5.91657527591555E8
-
Level ID: 1
[ Start Tile, End Tile ]
- Resolution: 78271.51696399994
- Scale: 2.95828763795777E8
-
Level ID: 2
[ Start Tile, End Tile ]
- Resolution: 39135.75848200009
- Scale: 1.47914381897889E8
-
Level ID: 3
[ Start Tile, End Tile ]
- Resolution: 19567.87924099992
- Scale: 7.3957190948944E7
-
Level ID: 4
[ Start Tile, End Tile ]
- Resolution: 9783.93962049996
- Scale: 3.6978595474472E7
-
Level ID: 5
[ Start Tile, End Tile ]
- Resolution: 4891.96981024998
- Scale: 1.8489297737236E7
- Format: MIXED
- Compression Quality: 75.0
- Origin: X: -2.0037508342787E7
Y: 2.0037508342787E7
- Spatial Reference: 102100
(3857)
Initial Extent:
XMin: -1.0832792136962742E7
YMin: 3855132.2886174605
XMax: -1.071484065105977E7
YMax: 3899582.3775176383
Spatial Reference: 102100
(3857)
Full Extent:
XMin: -1.0802297006903527E7
YMin: 3834598.1010158896
XMax: -1.0743631029677445E7
YMax: 3893975.6086758343
Spatial Reference: 102100
(3857)
Units: esriMeters
Supported Image Format Types: PNG32,PNG24,PNG,JPG,DIB,TIFF,EMF,PS,PDF,GIF,SVG,SVGZ,BMP
Document Info:
Title: DCAD Jurisdiction Basemap
Author:
Comments: This basemap provides taxing jurisdiction information to the general public and other consumers within an organization. The content presented in this map emulates hardcopy map products used throughout local government.
Subject: The jurisdiction map provides taxing entity information to the general public and other consumers within an organization.
Category:
Keywords: Parcels,Jurisdictions,Public Access,Basemap
AntialiasingMode: None
TextAntialiasingMode: Force
Supports Dynamic Layers: false
Resampling: false
MaxRecordCount: 1000
MaxImageHeight: 4096
MaxImageWidth: 4096
Supported Query Formats: JSON, geoJSON
Supports Query Data Elements:
Min Scale: 288895.277144
Max Scale: 564.248588
Min LOD: 11
Max LOD: 20
Supports Datum Transformation: true
Child Resources:
Info
Supported Operations:
Export Map
Return Updates