View In:
ArcGIS JavaScript
ArcGIS Online Map Viewer
ArcGIS Earth
ArcMap
ArcGIS Pro
View Footprint In:
ArcGIS Online Map Viewer
Service Description: This basemap provides parcel information to the general public and other consumers within an organization. The content presented in this map emulates hardcopy map products used throughout local government.Content includes a map grid, survey abstracts, parcel boundaries, lot and block numbers, parcel dimensions as well as road centerlines and water features.
Map Name: Layers
Legend
All Layers and Tables
Layers:
Description: This basemap provides tax parcel information to the general public and other consumers within an organization. The content presented in this map emulates hardcopy map products used throughout local government. The PLSS and the subdivided lands provide a navigation framework and additional detail is provided at larger scales. At a map scale of 1:4800 and less, parcels, lots and historical lot lines are shown.
Copyright Text: DCAD, NCTCOG, MAPSCO, USGS, Esri.,Inc.
Spatial Reference:
102100
(3857)
Single Fused Map Cache: true
Tile Info:
- Height: 256
- Width: 256
- DPI: 96
-
Levels of Detail: 21
-
Level ID: 0
[ Start Tile, End Tile ]
- Resolution: 156543.03392800014
- Scale: 5.91657527591555E8
-
Level ID: 1
[ Start Tile, End Tile ]
- Resolution: 78271.51696399994
- Scale: 2.95828763795777E8
-
Level ID: 2
[ Start Tile, End Tile ]
- Resolution: 39135.75848200009
- Scale: 1.47914381897889E8
-
Level ID: 3
[ Start Tile, End Tile ]
- Resolution: 19567.87924099992
- Scale: 7.3957190948944E7
-
Level ID: 4
[ Start Tile, End Tile ]
- Resolution: 9783.93962049996
- Scale: 3.6978595474472E7
-
Level ID: 5
[ Start Tile, End Tile ]
- Resolution: 4891.96981024998
- Scale: 1.8489297737236E7
- Format: MIXED
- Compression Quality: 75.0
- Origin: X: -2.0037508342787E7
Y: 2.0037508342787E7
- Spatial Reference: 102100
(3857)
Initial Extent:
XMin: -1.0828946164768683E7
YMin: 3857384.66877705
XMax: -1.0715752047242245E7
YMax: 3897512.1019266867
Spatial Reference: 102100
(3857)
Full Extent:
XMin: -1.0840882971413925E7
YMin: 3827752.855861478
XMax: -1.0702955403892122E7
YMax: 3902219.9839624013
Spatial Reference: 102100
(3857)
Units: esriMeters
Supported Image Format Types: PNG32,PNG24,PNG,JPG,DIB,TIFF,EMF,PS,PDF,GIF,SVG,SVGZ,BMP
Document Info:
Title: DCAD Property Map
Author: DCAD
Comments: This basemap provides parcel information to the general public and other consumers within an organization. The content presented in this map emulates hardcopy map products used throughout local government.Content includes a map grid, survey abstracts, parcel boundaries, lot and block numbers, parcel dimensions as well as road centerlines and water features.
Subject: The DCAD property map provides parcel information to the general public and other consumers within an organization.
Category:
Keywords: Parcels,Property Map,Public Access,Basemap
AntialiasingMode: None
TextAntialiasingMode: Force
Supports Dynamic Layers: false
Resampling: false
MaxRecordCount: 1000
MaxImageHeight: 4096
MaxImageWidth: 4096
Supported Query Formats: JSON, geoJSON
Supports Query Data Elements:
Min Scale: 288895.277144
Max Scale: 564.248588
Min LOD: 11
Max LOD: 20
Supports Datum Transformation: true
Child Resources:
Info
Supported Operations:
Export Map
Return Updates